BEGIN:VCALENDAR
VERSION:2.0
PRODID:-//American Collectors Insurance - ECPv6.15.18//NONSGML v1.0//EN
CALSCALE:GREGORIAN
METHOD:PUBLISH
X-WR-CALNAME:American Collectors Insurance
X-ORIGINAL-URL:https://americancollectors.com
X-WR-CALDESC:Events for American Collectors Insurance
REFRESH-INTERVAL;VALUE=DURATION:PT1H
X-Robots-Tag:noindex
X-PUBLISHED-TTL:PT1H
BEGIN:VTIMEZONE
TZID:America/New_York
BEGIN:DAYLIGHT
TZOFFSETFROM:-0500
TZOFFSETTO:-0400
TZNAME:EDT
DTSTART:20250309T070000
END:DAYLIGHT
BEGIN:STANDARD
TZOFFSETFROM:-0400
TZOFFSETTO:-0500
TZNAME:EST
DTSTART:20251102T060000
END:STANDARD
BEGIN:DAYLIGHT
TZOFFSETFROM:-0500
TZOFFSETTO:-0400
TZNAME:EDT
DTSTART:20260308T070000
END:DAYLIGHT
BEGIN:STANDARD
TZOFFSETFROM:-0400
TZOFFSETTO:-0500
TZNAME:EST
DTSTART:20261101T060000
END:STANDARD
BEGIN:DAYLIGHT
TZOFFSETFROM:-0500
TZOFFSETTO:-0400
TZNAME:EDT
DTSTART:20270314T070000
END:DAYLIGHT
BEGIN:STANDARD
TZOFFSETFROM:-0400
TZOFFSETTO:-0500
TZNAME:EST
DTSTART:20271107T060000
END:STANDARD
END:VTIMEZONE
BEGIN:VEVENT
DTSTART;TZID=America/New_York:20260627T090000
DTEND;TZID=America/New_York:20260627T150000
DTSTAMP:20260424T113555
CREATED:20260422T164520Z
LAST-MODIFIED:20260422T164520Z
UID:617688-1782550800-1782572400@americancollectors.com
SUMMARY:Mid-State Mopars All Makes Car Show
DESCRIPTION:Car show with Chinese Auction music food craft vendors and cash prizes
URL:https://americancollectors.com/event/mid-state-mopars-all-makes-car-show/
CATEGORIES:X-Car Corral | Car Show | Museum | Show & Shine
ATTACH;FMTTYPE=image/jpeg:https://americancollectors.com/wp-content/uploads/2026-Car-Show-Flyer-2.jpg
END:VEVENT
END:VCALENDAR