BEGIN:VCALENDAR
VERSION:2.0
PRODID:-//American Collectors Insurance - ECPv6.15.18//NONSGML v1.0//EN
CALSCALE:GREGORIAN
METHOD:PUBLISH
X-ORIGINAL-URL:https://americancollectors.com
X-WR-CALDESC:Events for American Collectors Insurance
REFRESH-INTERVAL;VALUE=DURATION:PT1H
X-Robots-Tag:noindex
X-PUBLISHED-TTL:PT1H
BEGIN:VTIMEZONE
TZID:America/New_York
BEGIN:DAYLIGHT
TZOFFSETFROM:-0500
TZOFFSETTO:-0400
TZNAME:EDT
DTSTART:20250309T070000
END:DAYLIGHT
BEGIN:STANDARD
TZOFFSETFROM:-0400
TZOFFSETTO:-0500
TZNAME:EST
DTSTART:20251102T060000
END:STANDARD
BEGIN:DAYLIGHT
TZOFFSETFROM:-0500
TZOFFSETTO:-0400
TZNAME:EDT
DTSTART:20260308T070000
END:DAYLIGHT
BEGIN:STANDARD
TZOFFSETFROM:-0400
TZOFFSETTO:-0500
TZNAME:EST
DTSTART:20261101T060000
END:STANDARD
BEGIN:DAYLIGHT
TZOFFSETFROM:-0500
TZOFFSETTO:-0400
TZNAME:EDT
DTSTART:20270314T070000
END:DAYLIGHT
BEGIN:STANDARD
TZOFFSETFROM:-0400
TZOFFSETTO:-0500
TZNAME:EST
DTSTART:20271107T060000
END:STANDARD
END:VTIMEZONE
BEGIN:VEVENT
DTSTART;TZID=America/New_York:20260605T000000
DTEND;TZID=America/New_York:20260607T235959
DTSTAMP:20260421T173054
CREATED:20260414T183006Z
LAST-MODIFIED:20260414T183007Z
UID:611026-1780617600-1780876799@americancollectors.com
SUMMARY:Carlisle Ford Nationals
DESCRIPTION:The Carlisle Ford Nationals\, set for June 5-7\, 2026\, is an unmissable event for Ford enthusiasts! Renowned as the largest all-Ford show\, the event unfolds on the expansive 3\,400+ National Parts Depot Showfield\, showcasing an impressive array of Ford\, Lincoln\, Mercury\, and Euro Fords. In 2026\, expect the Ford Nationals to feel even more patriotic than normal\, because it will celebrate 250 years of America! Some additional features will be a HUGE celebration for the 60th of the Bronco\, 50th of Roush and 40th of the Taurus. \nAttendees can dive into the world of Ford vehicles and performance products\, with on-site installations and exclusive special displays. The event also features the world’s largest Ford Automotive Flea Market\, offering a vast selection of cars\, parts\, memorabilia\, collectibles and more. Plus\, the Manufacturers Midway will showcase the latest and greatest Ford-related products\, making this the ultimate destination for anyone passionate about Ford’s automotive heritage.
URL:https://americancollectors.com/event/carlisle-ford-nationals/
LOCATION:Carlisle Fairgrounds – Carlisle\, PA\, 1000 Bryn Mawr Rd\, Carlisle\, PA\, 17013\, United States
CATEGORIES:Auto Auction,x-Car Corral | Car Show | Swap Meet,x-Car Corral | Swap Meet
ATTACH;FMTTYPE=image/png:https://americancollectors.com/wp-content/uploads/ford_011123.png
END:VEVENT
BEGIN:VEVENT
DTSTART;TZID=America/New_York:20261002T080000
DTEND;TZID=America/New_York:20261003T170000
DTSTAMP:20260421T173054
CREATED:20260417T181920Z
LAST-MODIFIED:20260417T181921Z
UID:616791-1790928000-1791046800@americancollectors.com
SUMMARY:Goodguys 33rd Summit Racing Lone Star Nationals
DESCRIPTION:Everything is bigger in Texas\, including the Goodguys 33rd Summit Racing Lone Star Nationals held at the Texas Motor Speedway in Fort Worth\, October 2nd & 3rd. Over 2\,500 of the country’s finest 1999 & older hotrods\, trucks\, customs\, muscle cars and classics pack the infield to celebrate hot rodding! Watch the Goodguys Auto Cross racing series action featuring the Summit Racing “Big Hoss Shootout”\, take a ride in a Team Texas stock car\, shop the Summit Racing Super Shopping Experience or the giant swap meet and Cars 4 Sale Corral. There’s also the vendor midway\, top builder exhibits\, live music and see which rides take home the top awards of the event including the 2026 BASF Goodguys Most Bitchin’ title\, the 2026 Griot’s Garage Muscle Machine of the Year\, and the Top 10 Builder’s Choice Awards presented by Customs & Hot Rods of Andice! For complete details and to register your vehicle or purchase tickets\, visit www.good-guys.com/lsn.
URL:https://americancollectors.com/event/goodguys-33rd-summit-racing-lone-star-nationals/
LOCATION:Texas Motor Speedway – Ft Worth\, TX\, 3545 Lone Star Circle\, Fort Worth\, TX\, 76177\, United States
CATEGORIES:Car Show,Live Music / DJ,Swap Meet,x-Car Corral | Car Show | Swap Meet
ATTACH;FMTTYPE=image/png:https://americancollectors.com/wp-content/uploads/LSN-artwork.png
END:VEVENT
END:VCALENDAR