BEGIN:VCALENDAR
VERSION:2.0
PRODID:-//American Collectors Insurance - ECPv6.15.18//NONSGML v1.0//EN
CALSCALE:GREGORIAN
METHOD:PUBLISH
X-WR-CALNAME:American Collectors Insurance
X-ORIGINAL-URL:https://americancollectors.com
X-WR-CALDESC:Events for American Collectors Insurance
REFRESH-INTERVAL;VALUE=DURATION:PT1H
X-Robots-Tag:noindex
X-PUBLISHED-TTL:PT1H
BEGIN:VTIMEZONE
TZID:America/New_York
BEGIN:DAYLIGHT
TZOFFSETFROM:-0500
TZOFFSETTO:-0400
TZNAME:EDT
DTSTART:20250309T070000
END:DAYLIGHT
BEGIN:STANDARD
TZOFFSETFROM:-0400
TZOFFSETTO:-0500
TZNAME:EST
DTSTART:20251102T060000
END:STANDARD
BEGIN:DAYLIGHT
TZOFFSETFROM:-0500
TZOFFSETTO:-0400
TZNAME:EDT
DTSTART:20260308T070000
END:DAYLIGHT
BEGIN:STANDARD
TZOFFSETFROM:-0400
TZOFFSETTO:-0500
TZNAME:EST
DTSTART:20261101T060000
END:STANDARD
BEGIN:DAYLIGHT
TZOFFSETFROM:-0500
TZOFFSETTO:-0400
TZNAME:EDT
DTSTART:20270314T070000
END:DAYLIGHT
BEGIN:STANDARD
TZOFFSETFROM:-0400
TZOFFSETTO:-0500
TZNAME:EST
DTSTART:20271107T060000
END:STANDARD
END:VTIMEZONE
BEGIN:VEVENT
DTSTART;TZID=America/New_York:20260612T080000
DTEND;TZID=America/New_York:20260613T210000
DTSTAMP:20260423T205050
CREATED:20260421T165802Z
LAST-MODIFIED:20260421T165803Z
UID:615105-1781251200-1781384400@americancollectors.com
SUMMARY:British Motorcars in Bristol
DESCRIPTION:On June 12th & 13th the BMCNE will kick off its Annual British Motorcars in Bristol. With a car show that includes a scenic tour around Southern New England\, and hosting a block party in downtown Bristol. The public car show is an effort to raise money for local charities through car show registrations\, vendor booths\, area sales\, and sponsorships. \nThe events are FREE for visitors. Bring your family and friends for an entertaining day of historic British cars\, vendors and the beautiful sites of Narragansett Bay. There will be a British Car Corral\, British Marketplace & Auto Jumble\, and Food & Beverage Concessions are all open.
URL:https://americancollectors.com/event/british-motorcars-in-bristol/
LOCATION:Bristol Town Beach\, Bristol Rhode Island\, 50 Asylum Rd\,\, RI 02809\, Bristol\, RI\, 02809\, United States
CATEGORIES:x-Car Show | Cruise | Tour/Rally
ATTACH;FMTTYPE=image/jpeg:https://americancollectors.com/wp-content/uploads/BritsInBristol.jpg
ORGANIZER;CN="British Motorcars of New England":MAILTO:showchairman@bmcne.org
END:VEVENT
END:VCALENDAR